BEGIN:VCALENDAR
VERSION:2.0
PRODID:-//Tukios.com/
BEGIN:VEVENT
UID:8c005100-e6a4-413f-af1a-1e7f8288718c@www.arpprootfh.com
DTSTAMP:20260423T195314Z
DTSTART:20260427T040000Z
DTEND:20260427T173000Z
SUMMARY:Burial
DESCRIPTION:
URL:https://www.arpprootfh.com/obituaries/patricia-hamilton
LOCATION: 11179 W Market St.  Germantown OH 45327
GEO:39.6230928;-84.3916645
END:VEVENT
END:VCALENDAR