BEGIN:VCALENDAR
VERSION:2.0
PRODID:-//Tukios.com/
BEGIN:VEVENT
UID:971fe075-a46b-456d-a687-960f07a4b40e@www.arpprootfh.com
DTSTAMP:20260423T195112Z
DTSTART:20260427T160000Z
DTEND:20260427T170000Z
SUMMARY:Funeral Service
DESCRIPTION:
URL:https://www.arpprootfh.com/obituaries/patricia-hamilton
LOCATION: 29 N. Main Street  Germantown OH 45327
GEO:39.6255904;-84.3708362
END:VEVENT
END:VCALENDAR