BEGIN:VCALENDAR
VERSION:2.0
PRODID:-//Tukios.com/
BEGIN:VEVENT
UID:0643f196-a029-4883-84b8-0e29171e4960@www.arpprootfh.com
DTSTAMP:20260423T195331Z
DTSTART:20260427T143000Z
DTEND:20260427T160000Z
SUMMARY:Visitation
DESCRIPTION:
URL:https://www.arpprootfh.com/obituaries/patricia-hamilton
LOCATION: 29 N. Main Street  Germantown OH 45327
GEO:39.6255904;-84.3708362
END:VEVENT
END:VCALENDAR